BEGIN:VCALENDAR
VERSION:2.0
PRODID:-//Glamorgan Castle - ECPv6.15.20//NONSGML v1.0//EN
CALSCALE:GREGORIAN
METHOD:PUBLISH
X-WR-CALNAME:Glamorgan Castle
X-ORIGINAL-URL:https://glamorgancastle.org
X-WR-CALDESC:Events for Glamorgan Castle
REFRESH-INTERVAL;VALUE=DURATION:PT1H
X-Robots-Tag:noindex
X-PUBLISHED-TTL:PT1H
BEGIN:VTIMEZONE
TZID:America/New_York
BEGIN:DAYLIGHT
TZOFFSETFROM:-0500
TZOFFSETTO:-0400
TZNAME:EDT
DTSTART:20230312T070000
END:DAYLIGHT
BEGIN:STANDARD
TZOFFSETFROM:-0400
TZOFFSETTO:-0500
TZNAME:EST
DTSTART:20231105T060000
END:STANDARD
BEGIN:DAYLIGHT
TZOFFSETFROM:-0500
TZOFFSETTO:-0400
TZNAME:EDT
DTSTART:20240310T070000
END:DAYLIGHT
BEGIN:STANDARD
TZOFFSETFROM:-0400
TZOFFSETTO:-0500
TZNAME:EST
DTSTART:20241103T060000
END:STANDARD
BEGIN:DAYLIGHT
TZOFFSETFROM:-0500
TZOFFSETTO:-0400
TZNAME:EDT
DTSTART:20250309T070000
END:DAYLIGHT
BEGIN:STANDARD
TZOFFSETFROM:-0400
TZOFFSETTO:-0500
TZNAME:EST
DTSTART:20251102T060000
END:STANDARD
BEGIN:DAYLIGHT
TZOFFSETFROM:-0500
TZOFFSETTO:-0400
TZNAME:EDT
DTSTART:20260308T070000
END:DAYLIGHT
BEGIN:STANDARD
TZOFFSETFROM:-0400
TZOFFSETTO:-0500
TZNAME:EST
DTSTART:20261101T060000
END:STANDARD
END:VTIMEZONE
BEGIN:VEVENT
DTSTART;TZID=America/New_York:20250509T130000
DTEND;TZID=America/New_York:20250509T150000
DTSTAMP:20260424T090432
CREATED:20250425T183759Z
LAST-MODIFIED:20250425T183759Z
UID:1720-1746795600-1746802800@glamorgancastle.org
SUMMARY:Guided Friday Tour
DESCRIPTION:Guided tour at 1 and 2 pm
URL:https://glamorgancastle.org/event/guided-friday-tour/
LOCATION:Glamorgan Castle\, 200 Glamorgan Avenue\, Alliance\, OH\, 44601\, United States
CATEGORIES:Guided Tour
END:VEVENT
BEGIN:VEVENT
DTSTART;TZID=America/New_York:20250502T130000
DTEND;TZID=America/New_York:20250502T150000
DTSTAMP:20260424T090432
CREATED:20250425T183221Z
LAST-MODIFIED:20250425T183221Z
UID:1715-1746190800-1746198000@glamorgancastle.org
SUMMARY:Friday Guided Tour
DESCRIPTION:Guided tour at 1 and 2 pm \n 
URL:https://glamorgancastle.org/event/friday-guided-tour/
LOCATION:Glamorgan Castle\, 200 Glamorgan Avenue\, Alliance\, OH\, 44601\, United States
CATEGORIES:Guided Tour
END:VEVENT
BEGIN:VEVENT
DTSTART;TZID=America/New_York:20250425T130000
DTEND;TZID=America/New_York:20250425T170000
DTSTAMP:20260424T090432
CREATED:20250425T185800Z
LAST-MODIFIED:20250425T185831Z
UID:1667-1745586000-1745600400@glamorgancastle.org
SUMMARY:Friday Guided Tours
DESCRIPTION:Guided Tours
URL:https://glamorgancastle.org/event/friday-guided-tours-4/
LOCATION:Glamorgan Castle\, 200 Glamorgan Avenue\, Alliance\, OH\, 44601\, United States
CATEGORIES:Guided Tour
END:VEVENT
BEGIN:VEVENT
DTSTART;TZID=America/New_York:20250307T130000
DTEND;TZID=America/New_York:20250307T150000
DTSTAMP:20260424T090432
CREATED:20250216T180916Z
LAST-MODIFIED:20250216T180926Z
UID:1615-1741352400-1741359600@glamorgancastle.org
SUMMARY:Friday Guided Tour
DESCRIPTION:Docent led tour of all 4 floors.
URL:https://glamorgancastle.org/event/friday-guided-tour-4/
LOCATION:Glamorgan Castle\, 200 Glamorgan Avenue\, Alliance\, OH\, 44601\, United States
CATEGORIES:Guided Tour
END:VEVENT
BEGIN:VEVENT
DTSTART;TZID=America/New_York:20250228T130000
DTEND;TZID=America/New_York:20250228T150000
DTSTAMP:20260424T090432
CREATED:20250216T180939Z
LAST-MODIFIED:20250216T180945Z
UID:1601-1740747600-1740754800@glamorgancastle.org
SUMMARY:Friday Guided Tour
DESCRIPTION:Docent led tour of all 4 floors.
URL:https://glamorgancastle.org/event/friday-guided-tour-5/
LOCATION:Glamorgan Castle\, 200 Glamorgan Avenue\, Alliance\, OH\, 44601\, United States
CATEGORIES:Guided Tour
END:VEVENT
BEGIN:VEVENT
DTSTART;TZID=America/New_York:20250221T130000
DTEND;TZID=America/New_York:20250221T150000
DTSTAMP:20260424T090432
CREATED:20250216T180958Z
LAST-MODIFIED:20250216T180958Z
UID:1587-1740142800-1740150000@glamorgancastle.org
SUMMARY:Friday Guided Tour
DESCRIPTION:Guided tour of all 4 floors of the castle.
URL:https://glamorgancastle.org/event/friday-guided-tour-6/
LOCATION:Glamorgan Castle\, 200 Glamorgan Avenue\, Alliance\, OH\, 44601\, United States
CATEGORIES:Guided Tour
END:VEVENT
BEGIN:VEVENT
DTSTART;TZID=America/New_York:20241108T140000
DTEND;TZID=America/New_York:20241108T150000
DTSTAMP:20260424T090432
CREATED:20241014T184907Z
LAST-MODIFIED:20241014T184907Z
UID:316-1731074400-1731078000@glamorgancastle.org
SUMMARY:Guided Tour
DESCRIPTION:
URL:https://glamorgancastle.org/event/guided-tour-8/
LOCATION:Glamorgan Castle\, 200 Glamorgan Avenue\, Alliance\, OH\, 44601\, United States
CATEGORIES:Guided Tour
ATTACH;FMTTYPE=image/jpeg:https://glamorgancastle.org/wp-content/uploads/2024/02/IMG_6788.jpg
END:VEVENT
BEGIN:VEVENT
DTSTART;TZID=America/New_York:20241108T130000
DTEND;TZID=America/New_York:20241108T140000
DTSTAMP:20260424T090432
CREATED:20241014T184544Z
LAST-MODIFIED:20241014T184544Z
UID:314-1731070800-1731074400@glamorgancastle.org
SUMMARY:Guided Tour
DESCRIPTION:
URL:https://glamorgancastle.org/event/guided-tour-7/
LOCATION:Glamorgan Castle\, 200 Glamorgan Avenue\, Alliance\, OH\, 44601\, United States
CATEGORIES:Guided Tour
ATTACH;FMTTYPE=image/jpeg:https://glamorgancastle.org/wp-content/uploads/2024/02/IMG_6788.jpg
END:VEVENT
BEGIN:VEVENT
DTSTART;TZID=America/New_York:20241101T140000
DTEND;TZID=America/New_York:20241101T150000
DTSTAMP:20260424T090432
CREATED:20241014T184423Z
LAST-MODIFIED:20241014T184423Z
UID:312-1730469600-1730473200@glamorgancastle.org
SUMMARY:Guided Tour
DESCRIPTION:
URL:https://glamorgancastle.org/event/guided-tour-6/
LOCATION:Glamorgan Castle\, 200 Glamorgan Avenue\, Alliance\, OH\, 44601\, United States
CATEGORIES:Guided Tour
ATTACH;FMTTYPE=image/jpeg:https://glamorgancastle.org/wp-content/uploads/2024/02/IMG_6788.jpg
END:VEVENT
BEGIN:VEVENT
DTSTART;TZID=America/New_York:20241101T130000
DTEND;TZID=America/New_York:20241101T140000
DTSTAMP:20260424T090432
CREATED:20241014T184315Z
LAST-MODIFIED:20241014T184315Z
UID:310-1730466000-1730469600@glamorgancastle.org
SUMMARY:Guided Tour
DESCRIPTION:
URL:https://glamorgancastle.org/event/guided-tour-5/
LOCATION:Glamorgan Castle\, 200 Glamorgan Avenue\, Alliance\, OH\, 44601\, United States
CATEGORIES:Guided Tour
ATTACH;FMTTYPE=image/jpeg:https://glamorgancastle.org/wp-content/uploads/2024/02/IMG_6788.jpg
END:VEVENT
BEGIN:VEVENT
DTSTART;TZID=America/New_York:20241025T140000
DTEND;TZID=America/New_York:20241025T150000
DTSTAMP:20260424T090432
CREATED:20241014T182843Z
LAST-MODIFIED:20241014T183817Z
UID:308-1729864800-1729868400@glamorgancastle.org
SUMMARY:Guided Tour
DESCRIPTION:
URL:https://glamorgancastle.org/event/guided-tour-4/
LOCATION:Glamorgan Castle\, 200 Glamorgan Avenue\, Alliance\, OH\, 44601\, United States
CATEGORIES:Guided Tour
ATTACH;FMTTYPE=image/jpeg:https://glamorgancastle.org/wp-content/uploads/2024/02/image000003.jpg
END:VEVENT
BEGIN:VEVENT
DTSTART;TZID=America/New_York:20241025T130000
DTEND;TZID=America/New_York:20241025T140000
DTSTAMP:20260424T090432
CREATED:20241014T182520Z
LAST-MODIFIED:20241014T184126Z
UID:305-1729861200-1729864800@glamorgancastle.org
SUMMARY:Guided Tour
DESCRIPTION:
URL:https://glamorgancastle.org/event/guided-tour-3/
LOCATION:Glamorgan Castle\, 200 Glamorgan Avenue\, Alliance\, OH\, 44601\, United States
CATEGORIES:Guided Tour
ATTACH;FMTTYPE=image/jpeg:https://glamorgancastle.org/wp-content/uploads/2024/02/image000003.jpg
END:VEVENT
BEGIN:VEVENT
DTSTART;TZID=America/New_York:20241018T140000
DTEND;TZID=America/New_York:20241018T150000
DTSTAMP:20260424T090432
CREATED:20241014T182339Z
LAST-MODIFIED:20241014T184037Z
UID:303-1729260000-1729263600@glamorgancastle.org
SUMMARY:Guided Tour
DESCRIPTION:
URL:https://glamorgancastle.org/event/guided-tour-2/
LOCATION:Glamorgan Castle\, 200 Glamorgan Avenue\, Alliance\, OH\, 44601\, United States
CATEGORIES:Guided Tour
ATTACH;FMTTYPE=image/jpeg:https://glamorgancastle.org/wp-content/uploads/2024/02/image000003.jpg
END:VEVENT
BEGIN:VEVENT
DTSTART;TZID=America/New_York:20241018T130000
DTEND;TZID=America/New_York:20241018T140000
DTSTAMP:20260424T090432
CREATED:20241014T221452Z
LAST-MODIFIED:20241014T184001Z
UID:300-1729256400-1729260000@glamorgancastle.org
SUMMARY:Guided Tour
DESCRIPTION:
URL:https://glamorgancastle.org/event/guided-tour/
LOCATION:Glamorgan Castle\, 200 Glamorgan Avenue\, Alliance\, OH\, 44601\, United States
CATEGORIES:Guided Tour
END:VEVENT
END:VCALENDAR